BEGIN:VCALENDAR
PRODID:-//AT Content Types//AT Event//EN
VERSION:1.0
BEGIN:VEVENT
DTSTART:20120831T171500Z
DTEND:20120831T204500Z
DCREATED:20120802T093318Z
UID:ATEvent-ba358208eed1ae3c754bea56ef44c74e
SEQUENCE:0
LAST-MODIFIED:20120802T093343Z
SUMMARY:Zum Fürchta Schö im Mondesglanz
DESCRIPTION:für Erwachsene\: Voll . Mond . Wanderung mit Hertha Glüc
 k bei jeder Witterung!\nSagenweg Vandans
LOCATION:Bahnhof Vandans
PRIORITY:3
TRANSP:0
END:VEVENT
END:VCALENDAR
