BEGIN:VCALENDAR
PRODID:-//AT Content Types//AT Event//EN
VERSION:1.0
BEGIN:VEVENT
DTSTART:20130412T180000Z
DTEND:20130412T193000Z
DCREATED:20130131T130908Z
UID:ATEvent-fde2bb100d14fcc3433a2568857d1a40
SEQUENCE:0
LAST-MODIFIED:20130131T130926Z
SUMMARY:Zaubernacht der Märchen und Klänge
DESCRIPTION:Margit Obermair erzählt
LOCATION:4030 Linz\, Pegasusstraße 1-3\, Solar-City\, Begegnungszentrum "Elia"
PRIORITY:3
TRANSP:0
END:VEVENT
END:VCALENDAR
