BEGIN:VCALENDAR
PRODID:-//AT Content Types//AT Event//EN
VERSION:2.0
METHOD:PUBLISH
BEGIN:VEVENT
DTSTAMP:20260422T173612Z
CREATED:20121210T155235Z
UID:ATEvent-8a4faab0b1c946de6ee5d0bff45a5a4c
LAST-MODIFIED:20121210T155244Z
SUMMARY:WINTERZAUBER am Altwiener Christkindlmarkt
DTSTART:20121207T090000Z
DTEND:20121207T093000Z
DESCRIPTION:Christa Schmollgrub erzählt Winter- und Weihnachtsmärche
 n\, wie sie sich die Völker dieser Welt schon lange weitergeben.  /  
 Eintritt frei
LOCATION:Altwiener Christkindlmarkt\, Freyung\, 1010 Wien
CATEGORIES:Wien
CONTACT:Christa Schmollgruber\, 0676-3927021\, cs@maerchenfuermenschen.at
URL:http://www.maerchenfuermenschen.at
CLASS:PUBLIC
END:VEVENT
END:VCALENDAR
