BEGIN:VCALENDAR
PRODID:-//AT Content Types//AT Event//EN
VERSION:1.0
BEGIN:VEVENT
DTSTART:20121221T090000Z
DTEND:20121221T093000Z
DCREATED:20121210T155414Z
UID:ATEvent-1618f72b6e0fd84c1567443da9250dc7
SEQUENCE:0
LAST-MODIFIED:20121210T155431Z
SUMMARY:WINTERZAUBER am Altwiener Christkindlmarkt
DESCRIPTION:Christa Schmollgrub erzählt Winter- und Weihnachtsmärche
 n\, wie sie sich die Völker dieser Welt schon lange weitergeben. / Ei
 ntritt frei
LOCATION:Altwiener Christkindlmarkt\, Freyung\, 1010 Wien
PRIORITY:3
TRANSP:0
END:VEVENT
END:VCALENDAR
