BEGIN:VCALENDAR
PRODID:-//AT Content Types//AT Event//EN
VERSION:2.0
METHOD:PUBLISH
BEGIN:VEVENT
DTSTAMP:20260422T171952Z
CREATED:20120806T154006Z
UID:ATEvent-fd1ce01e8c536b2fc06b7a8ff1c78792
LAST-MODIFIED:20120806T154033Z
SUMMARY:Winterkölbl\, Krötenfrau
DTSTART:20120813T153000Z
DTEND:20120813T170000Z
DESCRIPTION:Erzählerin Christa Schmollgruber\: Märchen- und Rätsels
 paziergang durch den Augarten für große und kleine Zuhörende im Rah
 men der wienXtra familientage
LOCATION:Treffpunkt\: Obere Augartenstraße 1A\, 1020 Wien\, Wiese hinter dem Steinernen Tor.
CATEGORIES:Wien
CONTACT:Christa Schmollgruber\, 0676-3927021\, cs@maerchenfuermenschen.at
URL:http://www.maerchenfuermenschen.at
CLASS:PUBLIC
END:VEVENT
END:VCALENDAR
