BEGIN:VCALENDAR
PRODID:-//AT Content Types//AT Event//EN
VERSION:2.0
METHOD:PUBLISH
BEGIN:VEVENT
DTSTAMP:20260422T172117Z
CREATED:20130411T114950Z
UID:ATEvent-4364873d7f44f3a1f7d428a9c22f9a3d
LAST-MODIFIED:20130411T115002Z
SUMMARY:Wie du mir\, so ich dir…Wie sich in Begegnungen zwischen Mann und Frau die Liebe vermehrt
DTSTART:20130613T180000Z
DTEND:20130613T190000Z
DESCRIPTION:Erzählkunstabend mit Frederik Frans Mellak und Margarete 
 Wenzel   /   Eintritt frei\, Spenden willkommen
LOCATION:Trauungssaal des Bezirksamtes Ottakring\, Richard-Wagner-Platz 19\, A-1160 Wien
CATEGORIES:Wien
CONTACT:Margarete Wenzel\, 01-481 76 64\, mw@maerchenakademie-wien.at
URL:http://maerchenakademie-wien.at
CLASS:PUBLIC
END:VEVENT
END:VCALENDAR
