BEGIN:VCALENDAR
PRODID:-//AT Content Types//AT Event//EN
VERSION:1.0
BEGIN:VEVENT
DTSTART:20130427T180000Z
DTEND:20130427T190000Z
DCREATED:20130411T102231Z
UID:ATEvent-071d4d8f64f35495b674310ff8827841
SEQUENCE:0
LAST-MODIFIED:20130411T102421Z
SUMMARY:Was Frauen wollen - und Männer wünschen
DESCRIPTION:Mündlich erzählt von Christa Schmollgruber umspielt von 
 den Klängen der Harfe von Werner Karlinger. Märchen von Liebe\, Lust
  und Leidenschaft für erwachsene Menschen. Wenn ein Waldschratt Räts
 el aufgibt und ein Prinz die Liebe sucht\, wenn Gott nicht alles wisse
 n darf und Drachen sich häuten müssen\, versinken Menschen mit Märc
 hen im Reich der Sinne.    /   Anmeldung erbeten\: 07242 - 47537 oder 
 puchberg@dioezese-linz.at   /   Eintritt\: 15\,-
LOCATION:Bildungshaus Schloss Puchberg\, Puchberg 1\, 4600 Wels
PRIORITY:3
TRANSP:0
END:VEVENT
END:VCALENDAR
