BEGIN:VCALENDAR
PRODID:-//AT Content Types//AT Event//EN
VERSION:1.0
BEGIN:VEVENT
DTSTART:20121125T150000Z
DTEND:20121125T154500Z
DCREATED:20120827T120546Z
UID:ATEvent-f45b863f1d999e9cb3b630198eff6d43
SEQUENCE:0
LAST-MODIFIED:20120827T120604Z
SUMMARY:Warzennot & Mäusetod im Rahmen des 4. Internationalen Erzählkunstfestivals in Brixen
DESCRIPTION:Erzählerin Heike Vigl
LOCATION:Jugendhaus Kassianeum (JUKAS)\, Brunogasse 2\, I-39042 Brixen
PRIORITY:3
TRANSP:0
END:VEVENT
END:VCALENDAR
