BEGIN:VCALENDAR
PRODID:-//AT Content Types//AT Event//EN
VERSION:2.0
METHOD:PUBLISH
BEGIN:VEVENT
DTSTAMP:20260422T171842Z
CREATED:20121210T155624Z
UID:ATEvent-4ea02304d0c2142ecfd4bcc658017469
LAST-MODIFIED:20121210T155638Z
SUMMARY:WARUM DER ENGEL LACHEN MUSSTE
DTSTART:20121209T134500Z
DTEND:20121209T151500Z
DESCRIPTION:Christa Schmollgruber erzählt Winter- und Weihnachtsmärc
 hen auf der Weihnachtswerkstatt der Kinderfreunde Margareten  /  Eintr
 itt frei
LOCATION:Grünwaldgasse 4\; 1050 Wien
CATEGORIES:Wien
CONTACT:Christa Schmollgruber\, 0676-3927021\, cs@maerchenfuermenschen.at
URL:http://www.maerchenfuermenschen.at
CLASS:PUBLIC
END:VEVENT
END:VCALENDAR
