BEGIN:VCALENDAR
PRODID:-//AT Content Types//AT Event//EN
VERSION:1.0
BEGIN:VEVENT
DTSTART:20120826T070000Z
DTEND:20120826T150000Z
DCREATED:20120806T155858Z
UID:ATEvent-90b1769da798607ec11c6d4d55fcbdf1
SEQUENCE:0
LAST-MODIFIED:20120806T155920Z
SUMMARY:Wandern . Begegnen\: Von Joch zu Joch im Nenzinger Himmel
DESCRIPTION:mit Geschichten erzählt von Hertha Glück\: Wohin\: Mit d
 en Füßen in Vorarlberg – mit dem Blick in der Schweiz. Es ist eine
  phantastische Route\, die einfach alles bietet\: Alpenflair\, Alpenfl
 ora\, Alpenfauna und unbeschreiblich weite und wundervolle Ausblicke. 
 Eine unsägliche Ruhe\, da diese Runde wenig gegangen wird und schon a
 uch Ausdauer erfordert!
LOCATION:Treffpunkt/Ende\: Nenzinger Bahnhof\: bei jeder Witterung!
PRIORITY:3
TRANSP:0
END:VEVENT
END:VCALENDAR
