BEGIN:VCALENDAR
PRODID:-//AT Content Types//AT Event//EN
VERSION:1.0
BEGIN:VEVENT
DTSTART:20130608T140000Z
DTEND:20130608T144000Z
DCREATED:20130124T130837Z
UID:ATEvent-0f0387dd94f0eb39d1a86553176d743c
SEQUENCE:0
LAST-MODIFIED:20130128T150011Z
SUMMARY:Von drei Federn und einem beherzten Dummling
DESCRIPTION:Die Märchenhexe erzählt von drei Federn und einem beherz
 ten Dummling   /   bei schlechtem Wetter im kleinen Festsaal der Karl-
 Schubert Schule\, Kanitzg. 3\, 1230 Wien
LOCATION:Im Garten der Karl-Schubert Schule\, Kanitzg. 3\, 1230 Wien
PRIORITY:3
TRANSP:0
END:VEVENT
END:VCALENDAR
