BEGIN:VCALENDAR
PRODID:-//AT Content Types//AT Event//EN
VERSION:2.0
METHOD:PUBLISH
BEGIN:VEVENT
DTSTAMP:20260422T172103Z
CREATED:20130411T120413Z
UID:ATEvent-9fc8e61c043fc15fcd324477212b276f
LAST-MODIFIED:20130411T120638Z
SUMMARY:Vom kleinen Licht\, das flöten ging
DTSTART:20131220T140000Z
DTEND:20131220T170000Z
DESCRIPTION:Märchen und Geschichten\, mündlich frei erzählt von Mar
 geteh Wenzel\, führen uns auf Reisen in vorgestellte Welten.   /   Ei
 ntritt\: 7 € pro Person
LOCATION:Kreativwerkstatt Blumberg\, Blumberggasse 4\, Souterrain\, 1160 Wien
CATEGORIES:Wien
CONTACT:Margarete Wenzel\, 01-481 76 64\, mw@maerchenakademie-wien.at
URL:http://maerchenakademie-wien.at
CLASS:PUBLIC
END:VEVENT
END:VCALENDAR
