BEGIN:VCALENDAR
PRODID:-//AT Content Types//AT Event//EN
VERSION:1.0
BEGIN:VEVENT
DTSTART:20131222T140000Z
DTEND:20131222T170000Z
DCREATED:20130411T120920Z
UID:ATEvent-6c0d8ed87af1d5248f05acfcb32a6d4b
SEQUENCE:0
LAST-MODIFIED:20130411T120932Z
SUMMARY:Vom kleinen Licht\, das flöten ging
DESCRIPTION:Märchen und Geschichten\, mündlich frei erzählt von Mar
 geteh Wenzel\, führen uns auf Reisen in vorgestellte Welten.   /   Ei
 ntritt\: 7 € pro Person
LOCATION:Kreativwerkstatt Blumberg\, Blumberggasse 4\, Souterrain\, 1160 Wien
PRIORITY:3
TRANSP:0
END:VEVENT
END:VCALENDAR
