BEGIN:VCALENDAR
PRODID:-//AT Content Types//AT Event//EN
VERSION:1.0
BEGIN:VEVENT
DTSTART:20131221T140000Z
DTEND:20131221T170000Z
DCREATED:20130411T120806Z
UID:ATEvent-cccad02f03066c53f3b4f9d90a601781
SEQUENCE:0
LAST-MODIFIED:20130411T120814Z
SUMMARY:Vom kleinen Licht\, das flöten ging
DESCRIPTION:Märchen und Geschichten\, mündlich frei erzählt von Mar
 geteh Wenzel\, führen uns auf Reisen in vorgestellte Welten.   /   Ei
 ntritt\: 7 € pro Person
LOCATION:Kreativwerkstatt Blumberg\, Blumberggasse 4\, Souterrain\, 1160 Wien
PRIORITY:3
TRANSP:0
END:VEVENT
END:VCALENDAR
