BEGIN:VCALENDAR
PRODID:-//AT Content Types//AT Event//EN
VERSION:2.0
METHOD:PUBLISH
BEGIN:VEVENT
DTSTAMP:20260422T172757Z
CREATED:20130321T150608Z
UID:ATEvent-d8fc6b0648dd1508aa85701ae5e25db1
LAST-MODIFIED:20130321T151057Z
SUMMARY:Vollmondabenteuer\: Märchenschifffahrt am Wörthersee
DTSTART:20130722T180000Z
DTEND:20130722T200000Z
DESCRIPTION:Tamara Anna Hölzlsauer erzählt für Erwachsene Ohren - a
 uf der Santa Lucia
LOCATION:Treffpunkt Schiffsanlegestelle vor dem Schloß Velden
CATEGORIES:Kärnten
CONTACT:Tamara Hölzlsauer\, +43 664 1040418\, TamaraAnna@maerchen-erzaehlerin.at
URL:http://www.maerchen-erzaehlerin.at
CLASS:PUBLIC
END:VEVENT
END:VCALENDAR
