BEGIN:VCALENDAR
PRODID:-//AT Content Types//AT Event//EN
VERSION:1.0
BEGIN:VEVENT
DTSTART:20130821T180000Z
DTEND:20130821T200000Z
DCREATED:20130321T150810Z
UID:ATEvent-64e17ff39ff478284b0e22bd8ea8c459
SEQUENCE:0
LAST-MODIFIED:20130321T150816Z
SUMMARY:Vollmondabenteuer\: Märchenschifffahrt am Wörthersee
DESCRIPTION:Tamara Anna Hölzlsauer erzählt für Erwachsene Ohren - a
 uf der Santa Lucia
LOCATION:Treffpunkt Schiffsanlegestelle vor dem Schloß Velden
PRIORITY:3
TRANSP:0
END:VEVENT
END:VCALENDAR
