BEGIN:VCALENDAR
PRODID:-//AT Content Types//AT Event//EN
VERSION:1.0
BEGIN:VEVENT
DTSTART:20130607T150000Z
DTEND:20130607T170000Z
DCREATED:20130415T100849Z
UID:ATEvent-a99aae9eea2c2c1740d7411f70ccf057
SEQUENCE:0
LAST-MODIFIED:20130415T100858Z
SUMMARY:VERNISAGE der Künstlerin HEIDI BAUCH mit Märchen gewürzt
DESCRIPTION:Erzählerin Christa Schmollgruber
LOCATION:Augarten - Wintergarten Glashaus \; 1020 Wien\, Obere Augartenstraße 1
PRIORITY:3
TRANSP:0
END:VEVENT
END:VCALENDAR
