BEGIN:VCALENDAR
PRODID:-//AT Content Types//AT Event//EN
VERSION:2.0
METHOD:PUBLISH
BEGIN:VEVENT
DTSTAMP:20260422T170932Z
CREATED:20110524T143037Z
UID:ATEvent-2b87674a3c827e9ab11f7c21973f10ea
LAST-MODIFIED:20110524T143046Z
SUMMARY:UtopindustriA
DTSTART:20110617T170000Z
DTEND:20110617T200000Z
DESCRIPTION:Märchen-Playbacktheater mit Margarete Wenzel (Märchenerz
 ählerin und Moderatorin) und SchülerInnen der Neuen Mittelschule Bad
  Erlach
LOCATION:Gemeindesaal Bad Erlach\, Industrieviertel\, NÖ
CONTACT:Margarete Wenzel\, 01-481 76 64\, mw@maerchenakademie-wien.at
URL:http://www.maerchenakademie-wien.at
CLASS:PUBLIC
END:VEVENT
END:VCALENDAR
