BEGIN:VCALENDAR
PRODID:-//AT Content Types//AT Event//EN
VERSION:1.0
BEGIN:VEVENT
DTSTART:20121216T140000Z
DTEND:20121216T170000Z
DCREATED:20121016T154910Z
UID:ATEvent-59718bd2f396a1b0727f632bdae18729
SEQUENCE:0
LAST-MODIFIED:20121017T122113Z
SUMMARY:Unter und über dem Schnee - Zum Zuhören
DESCRIPTION:Margarete erzählt\: Wie eine Daunendecke breitet er sich 
 über die kalte Welt. Funkelnd wie Diamanten erscheinen die sternförm
 igen Teilchen im Sonnenlicht. Blaue Schatten mustern sein ausgespannte
 s Tuch. Mündlich frei erzählte Geschichten wechseln sich mit Klänge
 n der Knochenflöte\, Klangschale\, Shrouti-Box und Stimme ab.
LOCATION:Kreativwerkstatt Blumberg\, Blumberggasse 4\, Souterrain\, 1160 Wien
PRIORITY:3
TRANSP:0
END:VEVENT
END:VCALENDAR
