BEGIN:VCALENDAR
PRODID:-//AT Content Types//AT Event//EN
VERSION:2.0
METHOD:PUBLISH
BEGIN:VEVENT
DTSTAMP:20260422T173706Z
CREATED:20121016T154733Z
UID:ATEvent-c26ebbc85c8aca916cb567c7d8e04d37
LAST-MODIFIED:20121017T122010Z
SUMMARY:Unter und über dem Schnee - Zum Zuhören
DTSTART:20121215T140000Z
DTEND:20121215T170000Z
DESCRIPTION:Margarete erzählt\: Wie eine Daunendecke breitet er sich 
 über die kalte Welt. Funkelnd wie Diamanten erscheinen die sternförm
 igen Teilchen im Sonnenlicht. Blaue Schatten mustern sein ausgespannte
 s Tuch. Mündlich frei erzählte Geschichten wechseln sich mit Klänge
 n der Knochenflöte\, Klangschale\, Shrouti-Box und Stimme ab.
LOCATION:Kreativwerkstatt Blumberg\, Blumberggasse 4\, Souterrain\, 1160 Wien
CATEGORIES:Wien
CONTACT:Margarete Wenzel\, margaretewen@tele2.at
CLASS:PUBLIC
END:VEVENT
END:VCALENDAR
