BEGIN:VCALENDAR
PRODID:-//AT Content Types//AT Event//EN
VERSION:1.0
BEGIN:VEVENT
DTSTART:20121124T170000Z
DTEND:20121124T180000Z
DCREATED:20120827T120257Z
UID:ATEvent-32bd45ce9435a302785e8e46e944076c
SEQUENCE:0
LAST-MODIFIED:20120827T120408Z
SUMMARY:Spiegelwelten im Rahmen des 4. Internationalen Erzählkunstfestivals in Brixen
DESCRIPTION:Erzählerin Heike Vigl
LOCATION:Jugendhaus Kassianeum (JUKAS)\, Brunogasse 2\, I-39042 Brixen
PRIORITY:3
TRANSP:0
END:VEVENT
END:VCALENDAR
