BEGIN:VCALENDAR
PRODID:-//AT Content Types//AT Event//EN
VERSION:1.0
BEGIN:VEVENT
DTSTART:20110325T180000Z
DTEND:20110325T201500Z
DCREATED:20110217T211610Z
UID:ATEvent-af131a5336e566789a9b3006b244fde5
SEQUENCE:0
LAST-MODIFIED:20110217T211652Z
SUMMARY:Sinn und Sinnlichkeit
DESCRIPTION:Erzählabend mit kleinen Köstlichkeiten
LOCATION:Kreativwerkstatt Blumberg\, Blumberggasse 4\, Soutterain\, A-1160 Wien
PRIORITY:3
TRANSP:0
END:VEVENT
END:VCALENDAR
