BEGIN:VCALENDAR
PRODID:-//AT Content Types//AT Event//EN
VERSION:1.0
BEGIN:VEVENT
DTSTART:20100924T180000Z
DTEND:20100924T210000Z
DCREATED:20100906T161309Z
UID:ATEvent-67cbc63d622a4f8c1efe433a8c07a1fa
SEQUENCE:0
LAST-MODIFIED:20100906T161547Z
SUMMARY:Schwarz\:Weiß
DESCRIPTION:Live-Malerei und mündliches Erzählen
LOCATION:Projektwerkstatt Soho in Ottakring\, neuerdings\: Töchter der Kunst\,  Schellhammergasse 24 (Ecke Hubergasse)  1160 Wien
PRIORITY:3
TRANSP:0
END:VEVENT
END:VCALENDAR
