BEGIN:VCALENDAR
PRODID:-//AT Content Types//AT Event//EN
VERSION:2.0
METHOD:PUBLISH
BEGIN:VEVENT
DTSTAMP:20260422T200044Z
CREATED:20130607T125535Z
UID:ATEvent-a5ee69ecbb28f4b16cd1811c365b4c25
LAST-MODIFIED:20130607T132743Z
SUMMARY:SAGEN-Spaziergang\: HEXEN\, KÜSSE\, WASSERGEISTER
DTSTART:20130609T140000Z
DTEND:20130609T153000Z
LOCATION:Schwedenplatz / Ecke Rotenturmstraße
CATEGORIES:Wien
CONTACT:Christa Schmollgruber\, 0676-3927021\, cs@maerchenfuermenschen.at
URL:http://www.maerchenfuermenschen.at
CLASS:PUBLIC
END:VEVENT
END:VCALENDAR
