BEGIN:VCALENDAR
PRODID:-//AT Content Types//AT Event//EN
VERSION:2.0
METHOD:PUBLISH
BEGIN:VEVENT
DTSTAMP:20260422T170932Z
CREATED:20120730T133351Z
UID:ATEvent-8ebaeb23103e8f6937c273081efc4643
LAST-MODIFIED:20120730T133651Z
SUMMARY:Stubaier Märchenwoche\: Rumpelstilzchen
DTSTART:20120803T190000Z
DTEND:20120803T200000Z
DESCRIPTION:Das Rumpelstilzchen erzählt von Barbara Beinsteiner (deut
 sch) und Heike Vigl (italienisch). Untermalt und begleitet von Alex Ma
 yer am Didgeridoo und der Feuertänzerin Corinna Walder.\nAbschluss de
 r Märchenwoche im Stubaital
LOCATION:Klaus Äuele\, Stubaital
CATEGORIES:Tirol
CONTACT:Barbara Beinsteiner\, barbara.beinsteiner@gmx.at
CLASS:PUBLIC
END:VEVENT
END:VCALENDAR
