BEGIN:VCALENDAR
PRODID:-//AT Content Types//AT Event//EN
VERSION:2.0
METHOD:PUBLISH
BEGIN:VEVENT
DTSTAMP:20260422T172330Z
CREATED:20120806T161607Z
UID:ATEvent-737b3345d8b2bc767e1eafc1d7afd727
LAST-MODIFIED:20120806T161625Z
SUMMARY:Quellenzauber und Drachenspiel
DTSTART:20120825T130000Z
DTEND:20120825T150000Z
DESCRIPTION:Märchenerzähler Frederik Mellak\: Erzählwanderung mit T
 heaterszenen in freier Natur und Live-Musik
LOCATION:Quellenweg St. Radegund\, Treffpunkt\: Kursaal
CATEGORIES:Steiermark
CONTACT:Frederik Frans Mellak\, 0650/9108888
URL:http://www.freudeanmaerchen.at
CLASS:PUBLIC
END:VEVENT
END:VCALENDAR
