BEGIN:VCALENDAR
PRODID:-//AT Content Types//AT Event//EN
VERSION:1.0
BEGIN:VEVENT
DTSTART:20120826T130000Z
DTEND:20120826T150000Z
DCREATED:20120806T161828Z
UID:ATEvent-88c060fcf48b9fa0e31f22016a586c27
SEQUENCE:0
LAST-MODIFIED:20120806T161845Z
SUMMARY:Quellenzauber und Drachenspiel
DESCRIPTION:Märchenerzähler Frederik Mellak\: Erzählwanderung mit T
 heaterszenen in freier Natur und Live-Musik
LOCATION:Quellenweg St. Radegund\, Treffpunkt\: Kursaal
PRIORITY:3
TRANSP:0
END:VEVENT
END:VCALENDAR
