BEGIN:VCALENDAR
PRODID:-//AT Content Types//AT Event//EN
VERSION:1.0
BEGIN:VEVENT
DTSTART:20121222T150000Z
DTEND:20121222T170000Z
DCREATED:20120928T103936Z
UID:ATEvent-7a9508b4a0479204cc6808667f9c102a
SEQUENCE:0
LAST-MODIFIED:20120928T103955Z
SUMMARY:Oh Wannenbaum!
DESCRIPTION:Saga Susa und Ameli Pauli erzählen verrückte Geschichten
  für die besinnliche Zeit.\nGeeignet für Menschen ab 6 Jahren.
LOCATION:Haus der Geschichten im WUK\, Museumssaal
PRIORITY:3
TRANSP:0
END:VEVENT
END:VCALENDAR
