BEGIN:VCALENDAR
PRODID:-//AT Content Types//AT Event//EN
VERSION:2.0
METHOD:PUBLISH
BEGIN:VEVENT
DTSTAMP:20260422T174126Z
CREATED:20120827T115051Z
UID:ATEvent-7c921294e69b3ac198ec4525c73cf595
LAST-MODIFIED:20120827T115104Z
SUMMARY:Mystische Sagenwanderung\: Die Salige in Lüsen
DTSTART:20120831T073000Z
DTEND:20120831T150000Z
DESCRIPTION:Erzählt von Heike Vigl nach einem Text von Kathrin Gschle
 ier
LOCATION:Naturhotel Lüsnerhof\, Runggerstr. 20\, Lüsen
CATEGORIES:Südtirol
CONTACT:Heike Vigl\, +393405675773\, heikevigl@dnet.it
CLASS:PUBLIC
END:VEVENT
END:VCALENDAR
