BEGIN:VCALENDAR
PRODID:-//AT Content Types//AT Event//EN
VERSION:2.0
METHOD:PUBLISH
BEGIN:VEVENT
DTSTAMP:20260422T174229Z
CREATED:20120827T115501Z
UID:ATEvent-190b70b4944b608793b0032876317ff8
LAST-MODIFIED:20120827T115521Z
SUMMARY:Mystische Sagenwanderung\: Die Salige in Lüsen
DTSTART:20120906T073000Z
DTEND:20120906T150000Z
DESCRIPTION:Erzählt von Heike Vigl nach einem Text von Kathrin Gschle
 ier
LOCATION:Naturhotel Lüsnerhof\, Runggerstr. 20\, Lüsen
CATEGORIES:Südtirol
CONTACT:Heike Vigl\, +393405675773\, heikevigl@dnet.it
CLASS:PUBLIC
END:VEVENT
END:VCALENDAR
