BEGIN:VCALENDAR
PRODID:-//AT Content Types//AT Event//EN
VERSION:1.0
BEGIN:VEVENT
DTSTART:20120828T070000Z
DTEND:20120828T150000Z
DCREATED:20120827T114838Z
UID:ATEvent-4fa357ce82f4cdf8226d235b061f4ee0
SEQUENCE:0
LAST-MODIFIED:20120827T114909Z
SUMMARY:Mystische Sagenwanderung\: Der wilde Mann der Ultner Sunnenseit
DESCRIPTION:Erzählt von Heike Vigl nach einem Text von Kathrin Gschle
 ier
LOCATION:Tourismusverein Ultental - Proveis\, St. Walburg 104\; St. Walburg
PRIORITY:3
TRANSP:0
END:VEVENT
END:VCALENDAR
