BEGIN:VCALENDAR
PRODID:-//AT Content Types//AT Event//EN
VERSION:2.0
METHOD:PUBLISH
BEGIN:VEVENT
DTSTAMP:20260422T195507Z
CREATED:20120827T115311Z
UID:ATEvent-7d89928e699637a7413384790211933a
LAST-MODIFIED:20120827T115631Z
SUMMARY:Mystische Sagenwanderung\: Der wilde Mann der Ultner
DTSTART:20120904T070000Z
DTEND:20120904T150000Z
DESCRIPTION:Erzählt von Heike Vigl nach einem Text von Kathrin Gschle
 ier
LOCATION:Tourismusverein Ultental - Proveis\, St. Walburg 104\; St. Walburg
CATEGORIES:Südtirol
CONTACT:Heike Vigl\, +393405675773\, heikevigl@dnet.it
CLASS:PUBLIC
END:VEVENT
END:VCALENDAR
