BEGIN:VCALENDAR
PRODID:-//AT Content Types//AT Event//EN
VERSION:2.0
METHOD:PUBLISH
BEGIN:VEVENT
DTSTAMP:20260422T195344Z
CREATED:20120722T103637Z
UID:ATEvent-fe562c91f6b0e28e3c5e783e0cb807f7
LAST-MODIFIED:20120722T103919Z
SUMMARY:Stubaier Märchenwoche\: Märchenwanderung mit zauberhaften Überraschungen
DTSTART:20120802T113000Z
DTEND:20120802T133000Z
DESCRIPTION:Erzählerin Margarete Wenzel begleitet die Wanderung am St
 ubaier Gletscher und führt die erlebnishungrigen Besucher auf eine sp
 annende Reise in die Welt der Märchen.
LOCATION:Stubaier Gletscher\, Treffpunkt Bergstation Schaufeljoch
CATEGORIES:Tirol
CONTACT:Margarete Wenzel\, 01-481 76 64\, mw@maerchenakademie-wien.at
URL:http://www.maerchenakademie-wien.at
CLASS:PUBLIC
END:VEVENT
END:VCALENDAR
