BEGIN:VCALENDAR
PRODID:-//AT Content Types//AT Event//EN
VERSION:2.0
METHOD:PUBLISH
BEGIN:VEVENT
DTSTAMP:20260422T171245Z
CREATED:20120727T123156Z
UID:ATEvent-16289601b651f9e376bcfb79999ca942
LAST-MODIFIED:20120727T123630Z
SUMMARY:Märchenwanderung im Wald
DTSTART:20120802T120000Z
DTEND:20120802T150000Z
DESCRIPTION:Erzählerin Margit Obermair\: Treffpunkt "Putti - Hof" in 
 Buchkirchen\, bei Schlechtwetter\, Märchenerzählung im Stadl - Putti
 -Hof\, ab 6 Jahre
LOCATION:"Putti - Hof"\, 4611 Buchkirchen
CATEGORIES:Oberösterreich
CONTACT:Margit Obermair\, 0650-2050203\, maerchen-margit@aon.at
URL:http://www.maerchen-margit.com/
CLASS:PUBLIC
END:VEVENT
END:VCALENDAR
