BEGIN:VCALENDAR
PRODID:-//AT Content Types//AT Event//EN
VERSION:1.0
BEGIN:VEVENT
DTSTART:20110220T150000Z
DTEND:20110220T200000Z
DCREATED:20110217T183721Z
UID:ATEvent-e07a123e076bc57e2dffef1717630ef9
SEQUENCE:0
LAST-MODIFIED:20110217T183736Z
SUMMARY:Märchenmarathon
DESCRIPTION:17 ErzählerInnen breiten ihre Schätze aus\, Vielfalt\, F
 ülle\, Geschichten feiern und Zuhören genießen...
LOCATION:Brunnenpassage\, A-1160 Wien\, Brunnengasse 71\, Yppenplatz
PRIORITY:3
TRANSP:0
END:VEVENT
END:VCALENDAR
