BEGIN:VCALENDAR
PRODID:-//AT Content Types//AT Event//EN
VERSION:2.0
METHOD:PUBLISH
BEGIN:VEVENT
DTSTAMP:20260422T171332Z
CREATED:20121016T151405Z
UID:ATEvent-76e6c604bb841c0b31d23f1ce8cafdcb
LAST-MODIFIED:20121016T152053Z
SUMMARY:Märchenerzählungen
DTSTART:20121110T133000Z
DTEND:20121110T141000Z
DESCRIPTION:Margit Obermair erzählt.
LOCATION:Stift Gleink in der Kirche\, 4407 Gleink/Steyr
CATEGORIES:Oberösterreich
CONTACT:Margit Obermair\, maerchen-margit@aon.at
CLASS:PUBLIC
END:VEVENT
END:VCALENDAR
