BEGIN:VCALENDAR
PRODID:-//AT Content Types//AT Event//EN
VERSION:1.0
BEGIN:VEVENT
DTSTART:20121208T130000Z
DTEND:20121208T140000Z
DCREATED:20121016T152956Z
UID:ATEvent-be0c1b07a02b23c35c87513c19e0f0d5
SEQUENCE:0
LAST-MODIFIED:20121016T153005Z
SUMMARY:Märchenerzählungen
DESCRIPTION:Margit Obermair erzählt.
LOCATION:Leiner Möbelhaus 4600 Wels\, im Weihnachtsmarkt - Keller
PRIORITY:3
TRANSP:0
END:VEVENT
END:VCALENDAR
