BEGIN:VCALENDAR
PRODID:-//AT Content Types//AT Event//EN
VERSION:1.0
BEGIN:VEVENT
DTSTART:20121125T150000Z
DTEND:20121125T160000Z
DCREATED:20121016T152817Z
UID:ATEvent-0d5f10b93dc2e26e5911d97dae9aa9cb
SEQUENCE:0
LAST-MODIFIED:20121016T152833Z
SUMMARY:Märchenerzählungen
DESCRIPTION:Margit Obermair erzählt.
LOCATION:Gemeindeamt 4532 Rohr\; Sitzungssaal
PRIORITY:3
TRANSP:0
END:VEVENT
END:VCALENDAR
