BEGIN:VCALENDAR
PRODID:-//AT Content Types//AT Event//EN
VERSION:1.0
BEGIN:VEVENT
DTSTART:20121124T093000Z
DTEND:20121124T103000Z
DCREATED:20121016T152637Z
UID:ATEvent-25f2dfd50238c15904c0094aae2bd1ea
SEQUENCE:0
LAST-MODIFIED:20121016T152649Z
SUMMARY:Märchenerzählungen
DESCRIPTION:Margit Obermair erzählt.
LOCATION:Messe der Grenzwissenschaften in 4271 St. Oswald bei Freistadt\; Seminargasthaus St. Oswald
PRIORITY:3
TRANSP:0
END:VEVENT
END:VCALENDAR
