BEGIN:VCALENDAR
PRODID:-//AT Content Types//AT Event//EN
VERSION:1.0
BEGIN:VEVENT
DTSTART:20121118T140000Z
DTEND:20121118T144000Z
DCREATED:20121016T152406Z
UID:ATEvent-40c0ff932a06296c6a83240dc0f428a8
SEQUENCE:0
LAST-MODIFIED:20121016T152413Z
SUMMARY:Märchenerzählungen
DESCRIPTION:Margit Obermair erzählt.
LOCATION:Schloss Mühldorf\, 4101 Feldkirchen
PRIORITY:3
TRANSP:0
END:VEVENT
END:VCALENDAR
