BEGIN:VCALENDAR
PRODID:-//AT Content Types//AT Event//EN
VERSION:1.0
BEGIN:VEVENT
DTSTART:20121117T140000Z
DTEND:20121117T144000Z
DCREATED:20121016T152228Z
UID:ATEvent-33e85c427bc02a7ad61bfc49e1137d2d
SEQUENCE:0
LAST-MODIFIED:20121016T152234Z
SUMMARY:Märchenerzählungen
DESCRIPTION:Margit Obermair erzählt.
LOCATION:Schloss Mühldorf\, 4101 Feldkirchen
PRIORITY:3
TRANSP:0
END:VEVENT
END:VCALENDAR
