BEGIN:VCALENDAR
PRODID:-//AT Content Types//AT Event//EN
VERSION:1.0
BEGIN:VEVENT
DTSTART:20121116T140000Z
DTEND:20121116T144000Z
DCREATED:20121016T151902Z
UID:ATEvent-9a8d5f7729ac97709e7b9d2949f36553
SEQUENCE:0
LAST-MODIFIED:20121016T152121Z
SUMMARY:Märchenerzählungen
DESCRIPTION:Margit Obermair erzählt.
LOCATION:Schloss Mühldorf\, 4101 Feldkirchen
PRIORITY:3
TRANSP:0
END:VEVENT
END:VCALENDAR
