BEGIN:VCALENDAR
PRODID:-//AT Content Types//AT Event//EN
VERSION:2.0
METHOD:PUBLISH
BEGIN:VEVENT
DTSTAMP:20260422T171051Z
CREATED:20120727T123520Z
UID:ATEvent-2057695e59b23e119f2c9bd0afd4bdee
LAST-MODIFIED:20120727T124410Z
SUMMARY:Märchenerzählung
DTSTART:20120822T120000Z
DTEND:20120822T130000Z
DESCRIPTION:Erzählerin\: Margit Obermair
LOCATION:Kirchenplatz 5\, 4493 Wolfern
CATEGORIES:Oberösterreich
CONTACT:Margit Obermair\, 0650-2050203\, maerchen-margit@aon.at
URL:http://www.maerchen-margit.com/
CLASS:PUBLIC
END:VEVENT
END:VCALENDAR
