BEGIN:VCALENDAR
PRODID:-//AT Content Types//AT Event//EN
VERSION:1.0
BEGIN:VEVENT
DTSTART:20130601T130000Z
DTEND:20130601T133000Z
DCREATED:20130516T125523Z
UID:ATEvent-23a12d97ae6af13a66e79bfe13347a55
SEQUENCE:0
LAST-MODIFIED:20130516T125530Z
SUMMARY:Märchenerzählung
DESCRIPTION:Margit Obermair erzählt
LOCATION:Möbelhaus Leiner - Wels
PRIORITY:3
TRANSP:0
END:VEVENT
END:VCALENDAR
