BEGIN:VCALENDAR
PRODID:-//AT Content Types//AT Event//EN
VERSION:1.0
BEGIN:VEVENT
DTSTART:20130601T120000Z
DTEND:20130601T123000Z
DCREATED:20130516T125339Z
UID:ATEvent-67b48d00a1abb473f9341d083da9cf92
SEQUENCE:0
LAST-MODIFIED:20130516T125350Z
SUMMARY:Märchenerzählung
DESCRIPTION:Margit Obermair erzählt
LOCATION:Möbelhaus Leiner - Wels
PRIORITY:3
TRANSP:0
END:VEVENT
END:VCALENDAR
