BEGIN:VCALENDAR
PRODID:-//AT Content Types//AT Event//EN
VERSION:1.0
BEGIN:VEVENT
DTSTART:20120824T130000Z
DTEND:20120824T140000Z
DCREATED:20120806T152546Z
UID:ATEvent-4225eddf080840ca849ffd42c4bfc8a6
SEQUENCE:0
LAST-MODIFIED:20120806T152601Z
SUMMARY:Märchenerzählung
DESCRIPTION:Erzählerin Margit Obermair
LOCATION:Bücherei 4880 St.Georgen/Attergau\, Attergauerstr. 18
PRIORITY:3
TRANSP:0
END:VEVENT
END:VCALENDAR
