BEGIN:VCALENDAR
PRODID:-//AT Content Types//AT Event//EN
VERSION:1.0
BEGIN:VEVENT
DTSTART:20121214T180000Z
DTEND:20121214T193000Z
DCREATED:20121210T155851Z
UID:ATEvent-9b67f740df34ccbb189558963e3e0dbd
SEQUENCE:0
LAST-MODIFIED:20121210T155913Z
SUMMARY:MAERchen-Melange & Harfen-KLANG
DESCRIPTION:Das Duo Maerklang\, Christa Schmollgruber (Erzählerin) un
 d Georg Baum (Harfe)\, lädt zu einem besinnlich/vergnüglichen Abend 
 und freut sich auf Euer Kommen!   /   Eintritt\: Erwachsene € 15\,- 
 \, Kinder € 5\,-\, Familien € 25\,-   /   Anmeldung erforderlich u
 nter\: info@noana-goerig.at oder cs@maerchenfuermenschen.at oder 0676-
 3118893
LOCATION:Versammlungsraum von B.R.O.T.\, Kalksburg\, Promenadenweg 5\, 1230 Wien
PRIORITY:3
TRANSP:0
END:VEVENT
END:VCALENDAR
