BEGIN:VCALENDAR
PRODID:-//AT Content Types//AT Event//EN
VERSION:2.0
METHOD:PUBLISH
BEGIN:VEVENT
DTSTAMP:20260422T171052Z
CREATED:20110217T194243Z
UID:ATEvent-54e93555ea148ef9c714b020df766f72
LAST-MODIFIED:20110217T194252Z
SUMMARY:MÃ¤rchen im CafÃ©
DTSTART:20110317T160000Z
DTEND:20110317T190000Z
DESCRIPTION:Setzen Sie sich zur ErzÃ¤hlerin an den CafÃ©haustisch\, wÃ
 ¤hlen Sie aus dem MÃ¤rchenmenu und lassen Sie sich ganz persÃ¶nlich ei
 ne Geschichte erzÃ¤hlen!
LOCATION:CafÃ© Ritter\, Ottakringerstr. 117\, 1160 Wien
CATEGORIES:Wien
CONTACT:Margarete Wenzel\, 01-481 76 64\, mw@maerchenakademie-wien.at
URL:http://www.maerchenakademie-wien.at
CLASS:PUBLIC
END:VEVENT
END:VCALENDAR
