BEGIN:VCALENDAR
PRODID:-//AT Content Types//AT Event//EN
VERSION:1.0
BEGIN:VEVENT
DTSTART:20111124T170000Z
DTEND:20111124T180000Z
DCREATED:20111030T205541Z
UID:ATEvent-23c737e8890502b1f93704816e931d2c
SEQUENCE:0
LAST-MODIFIED:20111030T205548Z
SUMMARY:Märchen im Café
DESCRIPTION:Wer an einem Caféhaustisch Platz genommen hat\, hat die M
 öglichkeit\, aus der Märchen-Menu-Karte eine Geschichte nach eigenem
  Geschmack auszuwählen. Lassen Sie sich ganz persönlich mit Erzählu
 ngen verwöhnen!
LOCATION:Café Ritter\, Ottakringerstr. 117\, 1160 Wien
PRIORITY:3
TRANSP:0
END:VEVENT
END:VCALENDAR
