BEGIN:VCALENDAR
PRODID:-//AT Content Types//AT Event//EN
VERSION:1.0
BEGIN:VEVENT
DTSTART:20111110T170000Z
DTEND:20111110T180000Z
DCREATED:20111030T205050Z
UID:ATEvent-2695e334b5831db238acb3f58a2ee4db
SEQUENCE:0
LAST-MODIFIED:20111030T205059Z
SUMMARY:Märchen im Café
DESCRIPTION:Wer an einem Caféhaustisch Platz genommen hat\, hat die M
 öglichkeit\, aus der Märchen-Menu-Karte eine Geschichte nach eigenem
  Geschmack auszuwählen. Lassen Sie sich ganz persönlich mit Erzählu
 ngen verwöhnen!
LOCATION:Café Ritter\, Ottakringerstr. 117\, 1160 Wien
PRIORITY:3
TRANSP:0
END:VEVENT
END:VCALENDAR
